BEGIN:VCALENDAR
VERSION:2.0
PRODID:-//www.mokangreyhounds.org//NONSGML kigkonsult.se iCalcreator 2.30.1
 0//
CALSCALE:GREGORIAN
METHOD:PUBLISH
UID:9092e893-b3ae-424b-864a-956c6faacda5
X-WR-CALDESC:Come for your home remodeling and garden needs but\, stop by a
 nd love on the Greyhounds while you're there!
X-WR-RELCALID:47f0fae1d87b32d78003356beca09068
X-WR-TIMEZONE:America/Chicago
BEGIN:VTIMEZONE
TZID:America/Chicago
BEGIN:STANDARD
TZNAME:CST
DTSTART:20171105T020000
TZOFFSETFROM:-0500
TZOFFSETTO:-0600
RDATE:20181104T020000
END:STANDARD
BEGIN:DAYLIGHT
TZNAME:CDT
DTSTART:20180311T020000
TZOFFSETFROM:-0600
TZOFFSETTO:-0500
RDATE:20190310T020000
END:DAYLIGHT
END:VTIMEZONE
BEGIN:VEVENT
UID:c93397b5-e280-49c6-8e58-7b825f5467ef
DTSTAMP:20260424T004246Z
DESCRIPTION:Come for your home remodeling and garden needs but\, stop by an
 d love on the Greyhounds while you're there!
DTSTART;TZID=America/Chicago:20180324T100000
DTEND;TZID=America/Chicago:20180324T200000
LOCATION:Kansas City Convention Center
SUMMARY:Greater Kansas City Home Show
END:VEVENT
END:VCALENDAR
