BEGIN:VCALENDAR
VERSION:2.0
PRODID:-//www.mokangreyhounds.org//NONSGML kigkonsult.se iCalcreator 2.30.1
 0//
CALSCALE:GREGORIAN
METHOD:PUBLISH
UID:56d12dde-6d9b-4e50-a453-ba2ec6ed7ea2
X-WR-CALDESC:Come for your home remodeling and garden needs but\, come by o
 ur booth to love on the Greyhounds!
X-WR-RELCALID:53019befdde39d2fe93e19eb6109e9b0
X-WR-TIMEZONE:America/Chicago
BEGIN:VTIMEZONE
TZID:America/Chicago
BEGIN:STANDARD
TZNAME:CST
DTSTART:20171105T020000
TZOFFSETFROM:-0500
TZOFFSETTO:-0600
RDATE:20181104T020000
END:STANDARD
BEGIN:DAYLIGHT
TZNAME:CDT
DTSTART:20180311T020000
TZOFFSETFROM:-0600
TZOFFSETTO:-0500
RDATE:20190310T020000
END:DAYLIGHT
END:VTIMEZONE
BEGIN:VEVENT
UID:62584308-65f5-45f4-842c-ec35e724b35c
DTSTAMP:20260424T004036Z
DESCRIPTION:Come for your home remodeling and garden needs but\, come by ou
 r booth to love on the Greyhounds!
DTSTART;TZID=America/Chicago:20180325T100000
DTEND;TZID=America/Chicago:20180325T170000
LOCATION:Kansas City Convention Center
SUMMARY:Greater Kansas City Home Show
END:VEVENT
END:VCALENDAR
