BEGIN:VCALENDAR
VERSION:2.0
PRODID:-//www.mokangreyhounds.org//NONSGML kigkonsult.se iCalcreator 2.30.1
 0//
CALSCALE:GREGORIAN
METHOD:PUBLISH
UID:f1e139a8-2f9a-491b-9a70-695513873df1
X-WR-CALDESC:Paws in the Park is the must attend event of the year for pet 
 owners in Northeast Kansas. The support you provide by attending this even
 t allows Helping Hands Humane Society to care for thousands of homeless\, 
 abused\, and neglected pets each year.
X-WR-RELCALID:c2730813c0570eec82f4722d0660ef3d
X-WR-TIMEZONE:America/Chicago
BEGIN:VTIMEZONE
TZID:America/Chicago
BEGIN:STANDARD
TZNAME:CST
DTSTART:20171105T020000
TZOFFSETFROM:-0500
TZOFFSETTO:-0600
RDATE:20181104T020000
END:STANDARD
BEGIN:DAYLIGHT
TZNAME:CDT
DTSTART:20180311T020000
TZOFFSETFROM:-0600
TZOFFSETTO:-0500
RDATE:20190310T020000
END:DAYLIGHT
END:VTIMEZONE
BEGIN:VEVENT
UID:e7fd4527-6c8b-4b9b-8c5e-76d0d85d2236
DTSTAMP:20260423T224007Z
DESCRIPTION:Paws in the Park is the must attend event of the year for pet o
 wners in Northeast Kansas. The support you provide by attending this event
  allows Helping Hands Humane Society to care for thousands of homeless\, a
 bused\, and neglected pets each year.
DTSTART;TZID=America/Chicago:20180407T100000
DTEND;TZID=America/Chicago:20180407T140000
LOCATION:Topeka West High School Soccer Field 21st & Belle Ave.\, Topeka\, 
 KS 66614
SUMMARY:Paws in the Park
END:VEVENT
END:VCALENDAR
