BEGIN:VCALENDAR
VERSION:2.0
PRODID:-//www.mokangreyhounds.org//NONSGML kigkonsult.se iCalcreator 2.30.1
 0//
CALSCALE:GREGORIAN
METHOD:PUBLISH
UID:7eb04ed1-c9b4-486c-9a7c-5bd7c1e17810
X-WR-CALDESC:Have you hugged a greyhound? Here's your chance!
X-WR-RELCALID:64503f4b6043ecd31aabd6e26f8d8322
X-WR-TIMEZONE:America/Chicago
BEGIN:VTIMEZONE
TZID:America/Chicago
BEGIN:STANDARD
TZNAME:CST
DTSTART:20171105T020000
TZOFFSETFROM:-0500
TZOFFSETTO:-0600
RDATE:20181104T020000
END:STANDARD
BEGIN:DAYLIGHT
TZNAME:CDT
DTSTART:20180311T020000
TZOFFSETFROM:-0600
TZOFFSETTO:-0500
RDATE:20190310T020000
END:DAYLIGHT
END:VTIMEZONE
BEGIN:VEVENT
UID:31e92b85-61b0-4e27-824b-6c9fea7bc28b
DTSTAMP:20260423T224503Z
DESCRIPTION:Have you hugged a greyhound? Here's your chance!
DTSTART;TZID=America/Chicago:20180407T110000
DTEND;TZID=America/Chicago:20180407T150000
LOCATION:3050 N Rock Road\, Wichita
SUMMARY:Petco\, Wichita\, KS
END:VEVENT
END:VCALENDAR
