BEGIN:VCALENDAR
VERSION:2.0
PRODID:-//www.mokangreyhounds.org//NONSGML kigkonsult.se iCalcreator 2.30.1
 0//
CALSCALE:GREGORIAN
METHOD:PUBLISH
UID:c6dc2cc4-481f-4b82-b198-6bc51bf10083
X-WR-CALDESC:Got Greyhound? Come see why you should.
X-WR-RELCALID:74e2f8738c1380f15133077c4e892d19
X-WR-TIMEZONE:America/Chicago
BEGIN:VTIMEZONE
TZID:America/Chicago
BEGIN:STANDARD
TZNAME:CST
DTSTART:20171105T020000
TZOFFSETFROM:-0500
TZOFFSETTO:-0600
RDATE:20181104T020000
END:STANDARD
BEGIN:DAYLIGHT
TZNAME:CDT
DTSTART:20180311T020000
TZOFFSETFROM:-0600
TZOFFSETTO:-0500
RDATE:20190310T020000
END:DAYLIGHT
END:VTIMEZONE
BEGIN:VEVENT
UID:1203240b-f743-4ccb-a82a-92ef09445fab
DTSTAMP:20260423T224425Z
DESCRIPTION:Got Greyhound? Come see why you should.
DTSTART;TZID=America/Chicago:20180414T110000
DTEND;TZID=America/Chicago:20180414T150000
LOCATION:6312 N Chatham Ave\, Kansas City\, MO 64151
SUMMARY:Bentley's Pet Stuff - Tremont
END:VEVENT
END:VCALENDAR
