BEGIN:VCALENDAR
VERSION:2.0
PRODID:-//www.mokangreyhounds.org//NONSGML kigkonsult.se iCalcreator 2.30.1
 0//
CALSCALE:GREGORIAN
METHOD:PUBLISH
UID:e02ea48b-d228-40b7-bf06-8f285e7f001b
X-WR-CALDESC:April showers bring greyt afternoons for napping with greyhoun
 ds!\n\nVolunteers can sign up at www.whentohelp.com
X-WR-RELCALID:2c6eb146e2d6c84283d5bc59af8cfc44
X-WR-TIMEZONE:America/Chicago
BEGIN:VTIMEZONE
TZID:America/Chicago
BEGIN:STANDARD
TZNAME:CST
DTSTART:20171105T020000
TZOFFSETFROM:-0500
TZOFFSETTO:-0600
RDATE:20181104T020000
END:STANDARD
BEGIN:DAYLIGHT
TZNAME:CDT
DTSTART:20180311T020000
TZOFFSETFROM:-0600
TZOFFSETTO:-0500
RDATE:20190310T020000
END:DAYLIGHT
END:VTIMEZONE
BEGIN:VEVENT
UID:55d78834-5232-4806-9467-06d4e4f4b358
DTSTAMP:20260423T223828Z
DESCRIPTION:April showers bring greyt afternoons for napping with greyhound
 s!\n\nVolunteers can sign up at www.whentohelp.com
DTSTART;TZID=America/Chicago:20180428T110000
DTEND;TZID=America/Chicago:20180428T150000
LOCATION:6555 W 119th St\, Overland Park\, KS 66209
SUMMARY:Bentley's Pet Stuff - Overland Park\, KS
END:VEVENT
END:VCALENDAR
