BEGIN:VCALENDAR
VERSION:2.0
PRODID:-//www.mokangreyhounds.org//NONSGML kigkonsult.se iCalcreator 2.30.1
 0//
CALSCALE:GREGORIAN
METHOD:PUBLISH
UID:d8e54550-d26f-441d-a12d-b45070f00ff3
X-WR-CALDESC:See the World's Fastest Couch Potatoes Inaction at Petco in Li
 berty!
X-WR-RELCALID:d7e9ddc6e9430b4084b84803c975d449
X-WR-TIMEZONE:America/Chicago
BEGIN:VTIMEZONE
TZID:America/Chicago
BEGIN:STANDARD
TZNAME:CST
DTSTART:20171105T020000
TZOFFSETFROM:-0500
TZOFFSETTO:-0600
RDATE:20181104T020000
END:STANDARD
BEGIN:DAYLIGHT
TZNAME:CDT
DTSTART:20180311T020000
TZOFFSETFROM:-0600
TZOFFSETTO:-0500
RDATE:20190310T020000
END:DAYLIGHT
END:VTIMEZONE
BEGIN:VEVENT
UID:89e0da4a-f397-49fd-a8bf-e3655bde1f1d
DTSTAMP:20260423T224513Z
DESCRIPTION:See the World's Fastest Couch Potatoes Inaction at Petco in Lib
 erty!
DTSTART;TZID=America/Chicago:20180428T110000
DTEND;TZID=America/Chicago:20180428T150000
LOCATION:233 S Stewart Rd\, Liberty\, MO 64068
SUMMARY:Petco - Liberty\, MO
END:VEVENT
END:VCALENDAR
