BEGIN:VCALENDAR
VERSION:2.0
PRODID:-//www.mokangreyhounds.org//NONSGML kigkonsult.se iCalcreator 2.30.1
 0//
CALSCALE:GREGORIAN
METHOD:PUBLISH
UID:0ddad494-49af-4a37-ba92-bc9188ed7253
X-WR-CALDESC:Come hang out with some Greyt dogs at Miles of Exotics on Barr
 y Road!
X-WR-RELCALID:455e30a066dc219bace03d28916936be
X-WR-TIMEZONE:America/Chicago
BEGIN:VTIMEZONE
TZID:America/Chicago
BEGIN:STANDARD
TZNAME:CST
DTSTART:20171105T020000
TZOFFSETFROM:-0500
TZOFFSETTO:-0600
RDATE:20181104T020000
RDATE:20191103T020000
END:STANDARD
BEGIN:DAYLIGHT
TZNAME:CDT
DTSTART:20180311T020000
TZOFFSETFROM:-0600
TZOFFSETTO:-0500
RDATE:20190310T020000
END:DAYLIGHT
END:VTIMEZONE
BEGIN:VEVENT
UID:0823be4e-1009-46ad-ae69-59acf6130a0a
DTSTAMP:20260423T205603Z
DESCRIPTION:Come hang out with some Greyt dogs at Miles of Exotics on Barry
  Road!
DTSTART;TZID=America/Chicago:20180512T110000
DTEND;TZID=America/Chicago:20180512T150000
LOCATION:Miles of Exotics 8350 N Broadway\, Kansas City\, MO 64118
SUMMARY:Adoption Event - Miles of Exotics
END:VEVENT
END:VCALENDAR
