BEGIN:VCALENDAR
VERSION:2.0
PRODID:-//www.mokangreyhounds.org//NONSGML kigkonsult.se iCalcreator 2.30.1
 0//
CALSCALE:GREGORIAN
METHOD:PUBLISH
UID:2e30cd2d-73ab-4a50-8131-245bc0041606
X-WR-CALDESC:See how greyt-looking a dog can be!
X-WR-RELCALID:7bbbcbcd59353e0d9b922193ffbcded9
X-WR-TIMEZONE:America/Chicago
BEGIN:VTIMEZONE
TZID:America/Chicago
BEGIN:STANDARD
TZNAME:CST
DTSTART:20171105T020000
TZOFFSETFROM:-0500
TZOFFSETTO:-0600
RDATE:20181104T020000
RDATE:20191103T020000
END:STANDARD
BEGIN:DAYLIGHT
TZNAME:CDT
DTSTART:20180311T020000
TZOFFSETFROM:-0600
TZOFFSETTO:-0500
RDATE:20190310T020000
END:DAYLIGHT
END:VTIMEZONE
BEGIN:VEVENT
UID:5d3b0452-9616-4867-aa18-56d71bf66661
DTSTAMP:20260423T205327Z
DESCRIPTION:See how greyt-looking a dog can be!
DTSTART;TZID=America/Chicago:20180512T110000
DTEND;TZID=America/Chicago:20180512T150000
LOCATION:14909 W 119th St\, Olathe\, KS 66062
SUMMARY:Bentley's Pet Stuff - Olathe\, KS
END:VEVENT
END:VCALENDAR
