BEGIN:VCALENDAR
VERSION:2.0
PRODID:-//www.mokangreyhounds.org//NONSGML kigkonsult.se iCalcreator 2.30.1
 0//
CALSCALE:GREGORIAN
METHOD:PUBLISH
UID:b62bf6ab-0f02-4769-a874-6616ea7a977a
X-WR-CALDESC:See how greyhounds love attention? Especially when they don't 
 have to get up!
X-WR-RELCALID:ae17361d09b3deca68c95c5d220cef8a
X-WR-TIMEZONE:America/Chicago
BEGIN:VTIMEZONE
TZID:America/Chicago
BEGIN:STANDARD
TZNAME:CST
DTSTART:20171105T020000
TZOFFSETFROM:-0500
TZOFFSETTO:-0600
RDATE:20181104T020000
RDATE:20191103T020000
END:STANDARD
BEGIN:DAYLIGHT
TZNAME:CDT
DTSTART:20180311T020000
TZOFFSETFROM:-0600
TZOFFSETTO:-0500
RDATE:20190310T020000
END:DAYLIGHT
END:VTIMEZONE
BEGIN:VEVENT
UID:d79225ab-f1d7-446c-82e7-e2cf84e66e87
DTSTAMP:20260423T185032Z
DESCRIPTION:See how greyhounds love attention? Especially when they don't h
 ave to get up!
DTSTART;TZID=America/Chicago:20180609T110000
DTEND;TZID=America/Chicago:20180609T150000
LOCATION:8752 NE 82nd Terrace\, Kansas City\, MO 64158
SUMMARY:Bentley's Pet Stuff - Liberty (Shoal Creek)
END:VEVENT
END:VCALENDAR
