BEGIN:VCALENDAR
VERSION:2.0
PRODID:-//www.mokangreyhounds.org//NONSGML kigkonsult.se iCalcreator 2.30.1
 0//
CALSCALE:GREGORIAN
METHOD:PUBLISH
UID:6c84ae0f-b2bc-4a54-8ea4-97eafeffe6ce
X-WR-CALDESC:Nap with the fastest dog on earth! (Bring your own toy)
X-WR-RELCALID:5e2f45a624fb7f1e859204a623eaa528
X-WR-TIMEZONE:America/Chicago
BEGIN:VTIMEZONE
TZID:America/Chicago
BEGIN:STANDARD
TZNAME:CST
DTSTART:20171105T020000
TZOFFSETFROM:-0500
TZOFFSETTO:-0600
RDATE:20181104T020000
RDATE:20191103T020000
END:STANDARD
BEGIN:DAYLIGHT
TZNAME:CDT
DTSTART:20180311T020000
TZOFFSETFROM:-0600
TZOFFSETTO:-0500
RDATE:20190310T020000
END:DAYLIGHT
END:VTIMEZONE
BEGIN:VEVENT
UID:f4872a13-d55a-44fe-91ee-84f1fe2123f3
DTSTAMP:20260423T184729Z
DESCRIPTION:Nap with the fastest dog on earth! (Bring your own toy)
DTSTART;TZID=America/Chicago:20180609T110000
DTEND;TZID=America/Chicago:20180609T150000
LOCATION:Three Dog Bakery\, 7951 W. 160th Street\, Suite 520 Overland Park\
 , Kansas 66223
SUMMARY:Three Dog Bakery - Overland Park
END:VEVENT
END:VCALENDAR
