BEGIN:VCALENDAR
VERSION:2.0
PRODID:-//www.mokangreyhounds.org//NONSGML kigkonsult.se iCalcreator 2.30.1
 0//
CALSCALE:GREGORIAN
METHOD:PUBLISH
UID:33db0cb5-c90c-4921-8c90-8f824a9edb88
X-WR-CALDESC:You mean you've never met a greyhound? I'll be looking for you
  at Bentley's in Tremont!
X-WR-RELCALID:ce545d9395424091a6e56bfb45d24624
X-WR-TIMEZONE:America/Chicago
BEGIN:VTIMEZONE
TZID:America/Chicago
BEGIN:STANDARD
TZNAME:CST
DTSTART:20171105T020000
TZOFFSETFROM:-0500
TZOFFSETTO:-0600
RDATE:20181104T020000
RDATE:20191103T020000
END:STANDARD
BEGIN:DAYLIGHT
TZNAME:CDT
DTSTART:20180311T020000
TZOFFSETFROM:-0600
TZOFFSETTO:-0500
RDATE:20190310T020000
END:DAYLIGHT
END:VTIMEZONE
BEGIN:VEVENT
UID:3e53ed18-735e-4a5a-b2c6-8fe6c01ed37e
DTSTAMP:20260423T185033Z
DESCRIPTION:You mean you've never met a greyhound? I'll be looking for you 
 at Bentley's in Tremont!
DTSTART;TZID=America/Chicago:20180623T110000
DTEND;TZID=America/Chicago:20180623T150000
LOCATION:6312 N Chatham Ave\, Kansas City\, MO 64151
SUMMARY:Bentley's Pet Stuff - Tremont
END:VEVENT
END:VCALENDAR
