BEGIN:VCALENDAR
VERSION:2.0
PRODID:-//www.mokangreyhounds.org//NONSGML kigkonsult.se iCalcreator 2.30.1
 0//
CALSCALE:GREGORIAN
METHOD:PUBLISH
UID:660b23cc-0b86-4026-9d9e-fa56d560262e
X-WR-CALDESC:You'll want all hands on deck to pet the greyhounds at Three D
 og Bakery in Leawood!
X-WR-RELCALID:6a4fe6115ced234da5002b6e8b1e26c1
X-WR-TIMEZONE:America/Chicago
BEGIN:VTIMEZONE
TZID:America/Chicago
BEGIN:STANDARD
TZNAME:CST
DTSTART:20171105T020000
TZOFFSETFROM:-0500
TZOFFSETTO:-0600
RDATE:20181104T020000
RDATE:20191103T020000
END:STANDARD
BEGIN:DAYLIGHT
TZNAME:CDT
DTSTART:20180311T020000
TZOFFSETFROM:-0600
TZOFFSETTO:-0500
RDATE:20190310T020000
END:DAYLIGHT
END:VTIMEZONE
BEGIN:VEVENT
UID:9bd7045d-2267-4cbd-b931-c62190ee169e
DTSTAMP:20260423T185802Z
DESCRIPTION:You'll want all hands on deck to pet the greyhounds at Three Do
 g Bakery in Leawood!
DTSTART;TZID=America/Chicago:20180623T110000
DTEND;TZID=America/Chicago:20180623T150000
LOCATION:Three Dog Bakery - Camelot Court\, 4322 W 119th St\, Leawood\, KS 
 66209
SUMMARY:Three Dog Bakery - Camelot Court - Leawood
END:VEVENT
END:VCALENDAR
