BEGIN:VCALENDAR
VERSION:2.0
PRODID:-//www.mokangreyhounds.org//NONSGML kigkonsult.se iCalcreator 2.30.1
 0//
CALSCALE:GREGORIAN
METHOD:PUBLISH
UID:cd618366-b22a-406b-b5dc-c99e649b2a75
X-WR-CALDESC:Greyhounds are cool even on a hot July day!
X-WR-RELCALID:cf421bb8e476eafd9da6980b0c3a2a42
X-WR-TIMEZONE:America/Chicago
BEGIN:VTIMEZONE
TZID:America/Chicago
BEGIN:STANDARD
TZNAME:CST
DTSTART:20171105T020000
TZOFFSETFROM:-0500
TZOFFSETTO:-0600
RDATE:20181104T020000
RDATE:20191103T020000
END:STANDARD
BEGIN:DAYLIGHT
TZNAME:CDT
DTSTART:20180311T020000
TZOFFSETFROM:-0600
TZOFFSETTO:-0500
RDATE:20190310T020000
END:DAYLIGHT
END:VTIMEZONE
BEGIN:VEVENT
UID:717da6c9-9a15-4e00-aea0-74f15451f6e8
DTSTAMP:20260423T170122Z
DESCRIPTION:Greyhounds are cool even on a hot July day!
DTSTART;TZID=America/Chicago:20180714T110000
DTEND;TZID=America/Chicago:20180714T150000
LOCATION:Four Paws Pantry & Spa\, 14040 W 119th St\, Olathe\, KS 66062
SUMMARY:Adoption Event - Four Paws Pantry
END:VEVENT
END:VCALENDAR
