BEGIN:VCALENDAR
VERSION:2.0
PRODID:-//www.mokangreyhounds.org//NONSGML kigkonsult.se iCalcreator 2.30.1
 0//
CALSCALE:GREGORIAN
METHOD:PUBLISH
UID:a0c7c94f-3e13-4024-9944-1888b982df4d
X-WR-CALDESC:See greyhounds work their magic at Miles of Exotics on Barry R
 oad!
X-WR-RELCALID:cda1d3570cdf86ba339a8dbecdcbf5d1
X-WR-TIMEZONE:America/Chicago
BEGIN:VTIMEZONE
TZID:America/Chicago
BEGIN:STANDARD
TZNAME:CST
DTSTART:20171105T020000
TZOFFSETFROM:-0500
TZOFFSETTO:-0600
RDATE:20181104T020000
RDATE:20191103T020000
END:STANDARD
BEGIN:DAYLIGHT
TZNAME:CDT
DTSTART:20180311T020000
TZOFFSETFROM:-0600
TZOFFSETTO:-0500
RDATE:20190310T020000
END:DAYLIGHT
END:VTIMEZONE
BEGIN:VEVENT
UID:32206f34-6ec9-47e6-bc36-1783022b7731
DTSTAMP:20260423T165754Z
DESCRIPTION:See greyhounds work their magic at Miles of Exotics on Barry Ro
 ad!
DTSTART;TZID=America/Chicago:20180714T110000
DTEND;TZID=America/Chicago:20180714T150000
LOCATION:Miles of Exotics 8350 N Broadway\, Kansas City\, MO 64118
SUMMARY:Adoption Event - Miles of Exotics
END:VEVENT
END:VCALENDAR
