BEGIN:VCALENDAR
VERSION:2.0
PRODID:-//www.mokangreyhounds.org//NONSGML kigkonsult.se iCalcreator 2.30.1
 0//
CALSCALE:GREGORIAN
METHOD:PUBLISH
UID:e39fc13e-f2f6-4159-ab3a-cd724e074517
X-WR-CALDESC:See the World's Fastest Couch Potatoes Inaction at Petco in Li
 berty!
X-WR-RELCALID:8cf156f6e88891e19cf8d773d5398b58
X-WR-TIMEZONE:America/Chicago
BEGIN:VTIMEZONE
TZID:America/Chicago
BEGIN:STANDARD
TZNAME:CST
DTSTART:20171105T020000
TZOFFSETFROM:-0500
TZOFFSETTO:-0600
RDATE:20181104T020000
RDATE:20191103T020000
END:STANDARD
BEGIN:DAYLIGHT
TZNAME:CDT
DTSTART:20180311T020000
TZOFFSETFROM:-0600
TZOFFSETTO:-0500
RDATE:20190310T020000
END:DAYLIGHT
END:VTIMEZONE
BEGIN:VEVENT
UID:59db8162-998c-4db6-90d0-15adc95361a9
DTSTAMP:20260423T165816Z
DESCRIPTION:See the World's Fastest Couch Potatoes Inaction at Petco in Lib
 erty!
DTSTART;TZID=America/Chicago:20180728T110000
DTEND;TZID=America/Chicago:20180728T150000
LOCATION:233 S Stewart Rd\, Liberty\, MO 64068
SUMMARY:Petco - Liberty\, MO
END:VEVENT
END:VCALENDAR
