BEGIN:VCALENDAR
VERSION:2.0
PRODID:-//www.mokangreyhounds.org//NONSGML kigkonsult.se iCalcreator 2.30.1
 0//
CALSCALE:GREGORIAN
METHOD:PUBLISH
UID:04140576-de12-46f8-8a07-31c0795040a0
X-WR-CALDESC:Can you resist the legendary Greyhound Charm? Betcha can't!
X-WR-RELCALID:3208f508e0f11aa952097f74ef1f5e50
X-WR-TIMEZONE:America/Chicago
BEGIN:VTIMEZONE
TZID:America/Chicago
BEGIN:STANDARD
TZNAME:CST
DTSTART:20171105T020000
TZOFFSETFROM:-0500
TZOFFSETTO:-0600
RDATE:20181104T020000
RDATE:20191103T020000
END:STANDARD
BEGIN:DAYLIGHT
TZNAME:CDT
DTSTART:20180311T020000
TZOFFSETFROM:-0600
TZOFFSETTO:-0500
RDATE:20190310T020000
END:DAYLIGHT
END:VTIMEZONE
BEGIN:VEVENT
UID:dbda9dba-c117-4979-8c33-a8b850b2303d
DTSTAMP:20260423T170606Z
DESCRIPTION:Can you resist the legendary Greyhound Charm? Betcha can't!
DTSTART;TZID=America/Chicago:20180728T110000
DTEND;TZID=America/Chicago:20180728T150000
LOCATION:4322 W 119th St\, Leawood\, KS 66209
SUMMARY:Three Dog Bakery - Camelot Court Leawood
END:VEVENT
END:VCALENDAR
