BEGIN:VCALENDAR
VERSION:2.0
PRODID:-//www.mokangreyhounds.org//NONSGML kigkonsult.se iCalcreator 2.30.1
 0//
CALSCALE:GREGORIAN
METHOD:PUBLISH
UID:2b011caf-e9c3-4953-81dd-70b3292e8113
X-WR-CALDESC:A greyt way to splash and dash with our greyhounds at the Tail
 s on the Trails event in Lenexa\, KS!
X-WR-RELCALID:217ce402046723a1d48be4de4e5729f6
X-WR-TIMEZONE:America/Chicago
BEGIN:VTIMEZONE
TZID:America/Chicago
BEGIN:STANDARD
TZNAME:CST
DTSTART:20171105T020000
TZOFFSETFROM:-0500
TZOFFSETTO:-0600
RDATE:20181104T020000
RDATE:20191103T020000
END:STANDARD
BEGIN:DAYLIGHT
TZNAME:CDT
DTSTART:20180311T020000
TZOFFSETFROM:-0600
TZOFFSETTO:-0500
RDATE:20190310T020000
END:DAYLIGHT
END:VTIMEZONE
BEGIN:VEVENT
UID:93b551eb-1563-4226-bf78-7a758d1210a1
DTSTAMP:20260423T151839Z
DESCRIPTION:A greyt way to splash and dash with our greyhounds at the Tails
  on the Trails event in Lenexa\, KS!
DTSTART;TZID=America/Chicago:20180811T090000
DTEND;TZID=America/Chicago:20180811T130000
LOCATION:8265 Maurer Rd\, Lenexa\, KS 66219
SUMMARY:Tails on the Trails - Lenexa\, KS
END:VEVENT
END:VCALENDAR
