BEGIN:VCALENDAR
VERSION:2.0
PRODID:-//www.mokangreyhounds.org//NONSGML kigkonsult.se iCalcreator 2.30.1
 0//
CALSCALE:GREGORIAN
METHOD:PUBLISH
UID:3a56fadf-8c2a-4d69-a39d-6988355615b4
X-WR-CALDESC:Join us for a hilarious and charitable night of HamBingo!  Eat
 \, drink\, laugh and help the Greyhounds.\n\nSign up to help as a voluntee
 r using the When to Help link below.
X-WR-RELCALID:ab35034c95cdfc92b8ae046c2aa350c2
X-WR-TIMEZONE:America/Chicago
BEGIN:VTIMEZONE
TZID:America/Chicago
BEGIN:STANDARD
TZNAME:CST
DTSTART:20171105T020000
TZOFFSETFROM:-0500
TZOFFSETTO:-0600
RDATE:20181104T020000
RDATE:20191103T020000
END:STANDARD
BEGIN:DAYLIGHT
TZNAME:CDT
DTSTART:20180311T020000
TZOFFSETFROM:-0600
TZOFFSETTO:-0500
RDATE:20190310T020000
END:DAYLIGHT
END:VTIMEZONE
BEGIN:VEVENT
UID:2f1e30f1-904a-4ca5-841a-812bdc0553c0
DTSTAMP:20260423T150411Z
DESCRIPTION:Join us for a hilarious and charitable night of HamBingo!  Eat\
 , drink\, laugh and help the Greyhounds.\n\nSign up to help as a volunteer
  using the When to Help link below.
DTSTART;TZID=America/Chicago:20180817T190000
DTEND;TZID=America/Chicago:20180817T210000
LOCATION:Hamburger Mary's
SUMMARY:Charity HamBINGO!
END:VEVENT
END:VCALENDAR
