BEGIN:VCALENDAR
VERSION:2.0
PRODID:-//www.mokangreyhounds.org//NONSGML kigkonsult.se iCalcreator 2.30.1
 0//
CALSCALE:GREGORIAN
METHOD:PUBLISH
UID:a6609dbd-04ab-4670-b190-a035104b74a0
X-WR-CALDESC:Dreaming of a bigger pool? Join us at the K-9s at the Cove and
  splash around with the Big Dogs!
X-WR-RELCALID:c67b7bfebb38936ced296197b51fbb33
X-WR-TIMEZONE:America/Chicago
BEGIN:VTIMEZONE
TZID:America/Chicago
BEGIN:STANDARD
TZNAME:CST
DTSTART:20171105T020000
TZOFFSETFROM:-0500
TZOFFSETTO:-0600
RDATE:20181104T020000
RDATE:20191103T020000
END:STANDARD
BEGIN:DAYLIGHT
TZNAME:CDT
DTSTART:20180311T020000
TZOFFSETFROM:-0600
TZOFFSETTO:-0500
RDATE:20190310T020000
END:DAYLIGHT
END:VTIMEZONE
BEGIN:VEVENT
UID:64bedc18-0f70-48f9-9f35-45566efce881
DTSTAMP:20260423T151412Z
DESCRIPTION:Dreaming of a bigger pool? Join us at the K-9s at the Cove and 
 splash around with the Big Dogs!
DTSTART;TZID=America/Chicago:20180818T080000
DTEND;TZID=America/Chicago:20180818T110000
LOCATION:5800 King St.\, Shawnee\, KS\, US\, 66203
SUMMARY:K-9s at the Cove\, Shawnee
END:VEVENT
END:VCALENDAR
