BEGIN:VCALENDAR
VERSION:2.0
PRODID:-//www.mokangreyhounds.org//NONSGML kigkonsult.se iCalcreator 2.30.1
 0//
CALSCALE:GREGORIAN
METHOD:PUBLISH
UID:02db3bf0-9dc5-4c5c-8562-f54cc03b5aa4
X-WR-CALDESC:Greyhound love comes in all colors! Come see us at Miles of Ex
 otics!
X-WR-RELCALID:27f5c0aad08a37d0a418a8cdd1ec9992
X-WR-TIMEZONE:America/Chicago
BEGIN:VTIMEZONE
TZID:America/Chicago
BEGIN:STANDARD
TZNAME:CST
DTSTART:20171105T020000
TZOFFSETFROM:-0500
TZOFFSETTO:-0600
RDATE:20181104T020000
RDATE:20191103T020000
END:STANDARD
BEGIN:DAYLIGHT
TZNAME:CDT
DTSTART:20180311T020000
TZOFFSETFROM:-0600
TZOFFSETTO:-0500
RDATE:20190310T020000
END:DAYLIGHT
END:VTIMEZONE
BEGIN:VEVENT
UID:2b862162-3f1a-45ff-b7d0-9f5707d7cfc8
DTSTAMP:20260423T151417Z
DESCRIPTION:Greyhound love comes in all colors! Come see us at Miles of Exo
 tics!
DTSTART;TZID=America/Chicago:20180825T110000
DTEND;TZID=America/Chicago:20180825T150000
LOCATION:8350 N Broadway\, Kansas City\, MO 64118
SUMMARY:Miles of Exotics - Barry Road
END:VEVENT
END:VCALENDAR
