BEGIN:VCALENDAR
VERSION:2.0
PRODID:-//www.mokangreyhounds.org//NONSGML kigkonsult.se iCalcreator 2.30.1
 0//
CALSCALE:GREGORIAN
METHOD:PUBLISH
UID:aa1c2900-4da4-43b9-8a17-709da0cd8f76
X-WR-CALDESC:If you're melting in the summer heat anyway\, why not let thes
 e gorgeous greyhound eyes finish the job at Petco on Stateline?
X-WR-RELCALID:fd30a6080e4f715389552fac75613c41
X-WR-TIMEZONE:America/Chicago
BEGIN:VTIMEZONE
TZID:America/Chicago
BEGIN:STANDARD
TZNAME:CST
DTSTART:20171105T020000
TZOFFSETFROM:-0500
TZOFFSETTO:-0600
RDATE:20181104T020000
RDATE:20191103T020000
END:STANDARD
BEGIN:DAYLIGHT
TZNAME:CDT
DTSTART:20180311T020000
TZOFFSETFROM:-0600
TZOFFSETTO:-0500
RDATE:20190310T020000
END:DAYLIGHT
END:VTIMEZONE
BEGIN:VEVENT
UID:5275e245-db62-49fd-b639-1d120f3d93fd
DTSTAMP:20260423T152212Z
DESCRIPTION:If you're melting in the summer heat anyway\, why not let these
  gorgeous greyhound eyes finish the job at Petco on Stateline?
DTSTART;TZID=America/Chicago:20180825T110000
DTEND;TZID=America/Chicago:20180825T150000
LOCATION:1210 W 136th St\, Kansas City\, MO 64145
SUMMARY:Petco - Stateline
END:VEVENT
END:VCALENDAR
