BEGIN:VCALENDAR
VERSION:2.0
PRODID:-//www.mokangreyhounds.org//NONSGML kigkonsult.se iCalcreator 2.30.1
 0//
CALSCALE:GREGORIAN
METHOD:PUBLISH
UID:e8879e37-b37c-4d12-9de5-9d7946bb5cc0
X-WR-CALDESC:Enjoy a Pint with our Pups at KC Bier Company's National Dog D
 ay Puppy Party\, benefitting the Humane Society of Greater Kansas City!
X-WR-RELCALID:f4d54d3ddf3fc1930f6772949ee265a9
X-WR-TIMEZONE:America/Chicago
BEGIN:VTIMEZONE
TZID:America/Chicago
BEGIN:STANDARD
TZNAME:CST
DTSTART:20171105T020000
TZOFFSETFROM:-0500
TZOFFSETTO:-0600
RDATE:20181104T020000
RDATE:20191103T020000
END:STANDARD
BEGIN:DAYLIGHT
TZNAME:CDT
DTSTART:20180311T020000
TZOFFSETFROM:-0600
TZOFFSETTO:-0500
RDATE:20190310T020000
END:DAYLIGHT
END:VTIMEZONE
BEGIN:VEVENT
UID:fe1e0b12-acde-4b4e-afca-41511f53f43a
DTSTAMP:20260423T151854Z
DESCRIPTION:Enjoy a Pint with our Pups at KC Bier Company's National Dog Da
 y Puppy Party\, benefitting the Humane Society of Greater Kansas City!
DTSTART;TZID=America/Chicago:20180826T170000
DTEND;TZID=America/Chicago:20180826T210000
LOCATION:310 W 79th St\, Kansas City\, MO 64114
SUMMARY:National Dog Day Puppy Party\, KC Bier Co.
END:VEVENT
END:VCALENDAR
