BEGIN:VCALENDAR
VERSION:2.0
PRODID:-//www.mokangreyhounds.org//NONSGML kigkonsult.se iCalcreator 2.30.1
 0//
CALSCALE:GREGORIAN
METHOD:PUBLISH
UID:af1f22a0-24c9-4d14-a501-942b967bcb3d
X-WR-CALDESC:Gallup Map Company is a great place to get lost on a First Fri
 day in Kansas City. Lots of people\, lots of dogs\, lots of fun. See you t
 here!
X-WR-RELCALID:caddda960f3507d46f88bd9838c84218
X-WR-TIMEZONE:America/Chicago
BEGIN:VTIMEZONE
TZID:America/Chicago
BEGIN:STANDARD
TZNAME:CST
DTSTART:20171105T020000
TZOFFSETFROM:-0500
TZOFFSETTO:-0600
RDATE:20181104T020000
RDATE:20191103T020000
END:STANDARD
BEGIN:DAYLIGHT
TZNAME:CDT
DTSTART:20180311T020000
TZOFFSETFROM:-0600
TZOFFSETTO:-0500
RDATE:20190310T020000
RDATE:20200308T020000
END:DAYLIGHT
END:VTIMEZONE
BEGIN:VEVENT
UID:6764b8c9-9000-44aa-bb31-78a3786ceaae
DTSTAMP:20260423T133418Z
DESCRIPTION:Gallup Map Company is a great place to get lost on a First Frid
 ay in Kansas City. Lots of people\, lots of dogs\, lots of fun. See you th
 ere!
DTSTART;TZID=America/Chicago:20180907T183000
DTEND;TZID=America/Chicago:20180907T203000
LOCATION:Gallup Map Company\, 1733 Main Street\, KCMO
SUMMARY:FIRST FRIDAY\, Gallup Map Company
END:VEVENT
END:VCALENDAR
