BEGIN:VCALENDAR
VERSION:2.0
PRODID:-//www.mokangreyhounds.org//NONSGML kigkonsult.se iCalcreator 2.30.1
 0//
CALSCALE:GREGORIAN
METHOD:PUBLISH
UID:f1a2b5d7-97c3-40e2-baf8-017a8cd9c639
X-WR-CALDESC:Heading back to school is even more fun with a fast friend!
X-WR-RELCALID:678a8b83afcbf68ae4530ee91d314a32
X-WR-TIMEZONE:America/Chicago
BEGIN:VTIMEZONE
TZID:America/Chicago
BEGIN:STANDARD
TZNAME:CST
DTSTART:20171105T020000
TZOFFSETFROM:-0500
TZOFFSETTO:-0600
RDATE:20181104T020000
RDATE:20191103T020000
END:STANDARD
BEGIN:DAYLIGHT
TZNAME:CDT
DTSTART:20180311T020000
TZOFFSETFROM:-0600
TZOFFSETTO:-0500
RDATE:20190310T020000
RDATE:20200308T020000
END:DAYLIGHT
END:VTIMEZONE
BEGIN:VEVENT
UID:d26b03d6-411f-4f38-8c35-2526f43e6685
DTSTAMP:20260423T132553Z
DESCRIPTION:Heading back to school is even more fun with a fast friend!
DTSTART;TZID=America/Chicago:20180908T110000
DTEND;TZID=America/Chicago:20180908T150000
LOCATION:Four Paws Pantry & Spa\, 14040 W 119th St\, Olathe\, KS 66062
SUMMARY:Adoption Event - Four Paws Pantry
END:VEVENT
END:VCALENDAR
