BEGIN:VCALENDAR
VERSION:2.0
PRODID:-//www.mokangreyhounds.org//NONSGML kigkonsult.se iCalcreator 2.30.1
 0//
CALSCALE:GREGORIAN
METHOD:PUBLISH
UID:f1234399-03bd-487c-b86c-9cce1df26180
X-WR-CALDESC:See why you should take a Greyhound to school this fall!
X-WR-RELCALID:c1bd45724fb58089eed986a39663c55e
X-WR-TIMEZONE:America/Chicago
BEGIN:VTIMEZONE
TZID:America/Chicago
BEGIN:STANDARD
TZNAME:CST
DTSTART:20171105T020000
TZOFFSETFROM:-0500
TZOFFSETTO:-0600
RDATE:20181104T020000
RDATE:20191103T020000
END:STANDARD
BEGIN:DAYLIGHT
TZNAME:CDT
DTSTART:20180311T020000
TZOFFSETFROM:-0600
TZOFFSETTO:-0500
RDATE:20190310T020000
RDATE:20200308T020000
END:DAYLIGHT
END:VTIMEZONE
BEGIN:VEVENT
UID:3fedf200-21c8-4af3-9978-38c2d1b184e4
DTSTAMP:20260423T133053Z
DESCRIPTION:See why you should take a Greyhound to school this fall!
DTSTART;TZID=America/Chicago:20180908T110000
DTEND;TZID=America/Chicago:20180908T150000
LOCATION:8752 NE 82nd Terrace\, Kansas City\, MO 64158
SUMMARY:Bentley's Pet Stuff - Liberty (Shoal Creek)
END:VEVENT
END:VCALENDAR
