BEGIN:VCALENDAR
VERSION:2.0
PRODID:-//www.mokangreyhounds.org//NONSGML kigkonsult.se iCalcreator 2.30.1
 0//
CALSCALE:GREGORIAN
METHOD:PUBLISH
UID:c2ed215a-c7fc-4074-ac6d-ec5da9d6229c
X-WR-CALDESC:Color me Grey this Fall at Three Dog Bakery!
X-WR-RELCALID:53cbce8f47ff69d55582285766b4c9ab
X-WR-TIMEZONE:America/Chicago
BEGIN:VTIMEZONE
TZID:America/Chicago
BEGIN:STANDARD
TZNAME:CST
DTSTART:20171105T020000
TZOFFSETFROM:-0500
TZOFFSETTO:-0600
RDATE:20181104T020000
RDATE:20191103T020000
END:STANDARD
BEGIN:DAYLIGHT
TZNAME:CDT
DTSTART:20180311T020000
TZOFFSETFROM:-0600
TZOFFSETTO:-0500
RDATE:20190310T020000
RDATE:20200308T020000
END:DAYLIGHT
END:VTIMEZONE
BEGIN:VEVENT
UID:1bd247eb-5ce5-41c5-8ee4-dfbc11502d68
DTSTAMP:20260423T133254Z
DESCRIPTION:Color me Grey this Fall at Three Dog Bakery!
DTSTART;TZID=America/Chicago:20180922T110000
DTEND;TZID=America/Chicago:20180922T150000
LOCATION:Three Dog Bakery 0 4322 W 119th St\, Leawood\, KS 66209
SUMMARY:Adoption Event - Three Dog Bakery - Leawood
END:VEVENT
END:VCALENDAR
