BEGIN:VCALENDAR
VERSION:2.0
PRODID:-//www.mokangreyhounds.org//NONSGML kigkonsult.se iCalcreator 2.30.1
 0//
CALSCALE:GREGORIAN
METHOD:PUBLISH
UID:85b32699-55fe-4cce-91dd-ab629831a420
X-WR-CALDESC:See the World's Fastest Couch Potatoes Inaction at Petco in Li
 berty!
X-WR-RELCALID:7a7c16ebcf083617500828e551a274f4
X-WR-TIMEZONE:America/Chicago
BEGIN:VTIMEZONE
TZID:America/Chicago
BEGIN:STANDARD
TZNAME:CST
DTSTART:20171105T020000
TZOFFSETFROM:-0500
TZOFFSETTO:-0600
RDATE:20181104T020000
RDATE:20191103T020000
END:STANDARD
BEGIN:DAYLIGHT
TZNAME:CDT
DTSTART:20180311T020000
TZOFFSETFROM:-0600
TZOFFSETTO:-0500
RDATE:20190310T020000
RDATE:20200308T020000
END:DAYLIGHT
END:VTIMEZONE
BEGIN:VEVENT
UID:1f4fd21d-4add-45a7-a12c-3eccb5dae115
DTSTAMP:20260423T132422Z
DESCRIPTION:See the World's Fastest Couch Potatoes Inaction at Petco in Lib
 erty!
DTSTART;TZID=America/Chicago:20180922T110000
DTEND;TZID=America/Chicago:20180922T150000
LOCATION:233 S Stewart Rd\, Liberty\, MO 64068
SUMMARY:Petco - Liberty\, MO
END:VEVENT
END:VCALENDAR
