BEGIN:VCALENDAR
VERSION:2.0
PRODID:-//www.mokangreyhounds.org//NONSGML kigkonsult.se iCalcreator 2.30.1
 0//
CALSCALE:GREGORIAN
METHOD:PUBLISH
UID:545259e2-963f-476d-af51-a96d36578f41
X-WR-CALDESC:Join us at the 3nd Annual Barktober Fest for a day of music\, 
 vendors and family fun!\n\nVolunteers can sign up at www.whentohelp.com
X-WR-RELCALID:468573884b329e203c71311eadfe482d
X-WR-TIMEZONE:America/Chicago
BEGIN:VTIMEZONE
TZID:America/Chicago
BEGIN:STANDARD
TZNAME:CST
DTSTART:20171105T020000
TZOFFSETFROM:-0500
TZOFFSETTO:-0600
RDATE:20181104T020000
RDATE:20191103T020000
END:STANDARD
BEGIN:DAYLIGHT
TZNAME:CDT
DTSTART:20180311T020000
TZOFFSETFROM:-0600
TZOFFSETTO:-0500
RDATE:20190310T020000
RDATE:20200308T020000
END:DAYLIGHT
END:VTIMEZONE
BEGIN:VEVENT
UID:2bacc3e7-ee35-49c1-b437-018d0be4029e
DTSTAMP:20260423T113829Z
DESCRIPTION:Join us at the 3nd Annual Barktober Fest for a day of music\, v
 endors and family fun!\n\nVolunteers can sign up at www.whentohelp.com
DTSTART;TZID=America/Chicago:20181006T100000
DTEND;TZID=America/Chicago:20181006T180000
LOCATION:Shawnee Mission Theater in the Park\, 7710 Renner Rd\, Shawnee\, K
 S 66217
SUMMARY:Barktober Fest
END:VEVENT
END:VCALENDAR
