BEGIN:VCALENDAR
VERSION:2.0
PRODID:-//www.mokangreyhounds.org//NONSGML kigkonsult.se iCalcreator 2.30.1
 0//
CALSCALE:GREGORIAN
METHOD:PUBLISH
UID:20534ad7-3425-4381-800f-4be2f7e2296c
X-WR-CALDESC:Catch a greyhound at Tractor Supply! It's easier than you'd th
 ink! \;)
X-WR-RELCALID:131f73ad6492b21b0708495bd82d42ae
X-WR-TIMEZONE:America/Chicago
BEGIN:VTIMEZONE
TZID:America/Chicago
BEGIN:STANDARD
TZNAME:CST
DTSTART:20171105T020000
TZOFFSETFROM:-0500
TZOFFSETTO:-0600
RDATE:20181104T020000
RDATE:20191103T020000
END:STANDARD
BEGIN:DAYLIGHT
TZNAME:CDT
DTSTART:20180311T020000
TZOFFSETFROM:-0600
TZOFFSETTO:-0500
RDATE:20190310T020000
RDATE:20200308T020000
END:DAYLIGHT
END:VTIMEZONE
BEGIN:VEVENT
UID:017d41bc-c727-469b-abcd-028dee09154f
DTSTAMP:20260423T112950Z
DESCRIPTION:Catch a greyhound at Tractor Supply! It's easier than you'd thi
 nk! \;)
DTSTART;TZID=America/Chicago:20181013T110000
DTEND;TZID=America/Chicago:20181013T150000
LOCATION:Tractor Supply Co.\, 15945 South Us 169 Hwy\, Olathe\, KS 66062
SUMMARY:Adoption Event - Tractor Supply - Olathe
END:VEVENT
END:VCALENDAR
