BEGIN:VCALENDAR
VERSION:2.0
PRODID:-//www.mokangreyhounds.org//NONSGML kigkonsult.se iCalcreator 2.30.1
 0//
CALSCALE:GREGORIAN
METHOD:PUBLISH
UID:6f2631e1-594e-4079-8e46-d6f7ab4410ef
X-WR-CALDESC:Get your holiday photos taken and benefit MoKan Greyhound Adop
 tion too!\n\nWho: Anyone is welcome. all breeds of dog\, other animals\, k
 ids\, families\nWhat: You will you get a link to your digital images via e
 -mail to be downloaded at your convenience!\nWhere: Tail Waggin PetStop at
  1818 Wyandotte St Kansas City\, MO 64108 in downtown Kansas City\, MO\nWh
 en: Saturday\, November 10th from 10:30am -4:30pm\, appointments preferred
 \, walk ins may have to wait\, each sitting is 15 minutes long.\nCost: $25
  donation to MoKan Greyhound Adoption.  We accept cash\, credit card and c
 hecks.\n\nTo make an appointment\, click the link below and find November 
 10th on the calendar.  We have a limited number of appointments\, so book 
 yours today!!
X-WR-RELCALID:5547a1e477b8e20c3eae65bde5814cd7
X-WR-TIMEZONE:America/Chicago
BEGIN:VTIMEZONE
TZID:America/Chicago
BEGIN:STANDARD
TZNAME:CST
DTSTART:20181104T020000
TZOFFSETFROM:-0500
TZOFFSETTO:-0600
RDATE:20191103T020000
END:STANDARD
BEGIN:DAYLIGHT
TZNAME:CDT
DTSTART:20180311T020000
TZOFFSETFROM:-0600
TZOFFSETTO:-0500
RDATE:20190310T020000
RDATE:20200308T020000
END:DAYLIGHT
END:VTIMEZONE
BEGIN:VEVENT
UID:2f311661-4b3d-41d0-82d2-d179e5e3b21d
DTSTAMP:20260423T093942Z
DESCRIPTION:Get your holiday photos taken and benefit MoKan Greyhound Adopt
 ion too!\n\nWho: Anyone is welcome. all breeds of dog\, other animals\, ki
 ds\, families\nWhat: You will you get a link to your digital images via e-
 mail to be downloaded at your convenience!\nWhere: Tail Waggin PetStop at 
 1818 Wyandotte St Kansas City\, MO 64108 in downtown Kansas City\, MO\nWhe
 n: Saturday\, November 10th from 10:30am -4:30pm\, appointments preferred\
 , walk ins may have to wait\, each sitting is 15 minutes long.\nCost: $25 
 donation to MoKan Greyhound Adoption.  We accept cash\, credit card and ch
 ecks.\n\nTo make an appointment\, click the link below and find November 1
 0th on the calendar.  We have a limited number of appointments\, so book y
 ours today!!
DTSTART;TZID=America/Chicago:20181110T103000
DTEND;TZID=America/Chicago:20181110T163000
LOCATION:Tail Waggin PetStop
SUMMARY:Holiday Photos
END:VEVENT
END:VCALENDAR
