BEGIN:VCALENDAR
VERSION:2.0
PRODID:-//www.mokangreyhounds.org//NONSGML kigkonsult.se iCalcreator 2.30.1
 0//
CALSCALE:GREGORIAN
METHOD:PUBLISH
UID:93be9b1f-8bcd-4a66-a93d-888dff5dfb58
X-WR-CALDESC:Join us for a hilarious and charitable night of HamBingo!  Eat
 \, drink\, laugh and help the Greyhounds.  Don't forget to make reservatio
 ns!  \n\nSign up to help as a volunteer using the When to Help link below.
X-WR-RELCALID:f5165dcf9bfc4af1aa3da69280946dc8
X-WR-TIMEZONE:America/Chicago
BEGIN:VTIMEZONE
TZID:America/Chicago
BEGIN:STANDARD
TZNAME:CST
DTSTART:20181104T020000
TZOFFSETFROM:-0500
TZOFFSETTO:-0600
RDATE:20191103T020000
END:STANDARD
BEGIN:DAYLIGHT
TZNAME:CDT
DTSTART:20180311T020000
TZOFFSETFROM:-0600
TZOFFSETTO:-0500
RDATE:20190310T020000
RDATE:20200308T020000
END:DAYLIGHT
END:VTIMEZONE
BEGIN:VEVENT
UID:5d8719bf-283f-4443-ae75-235d570e7ba2
DTSTAMP:20260423T094411Z
DESCRIPTION:Join us for a hilarious and charitable night of HamBingo!  Eat\
 , drink\, laugh and help the Greyhounds.  Don't forget to make reservation
 s!  \n\nSign up to help as a volunteer using the When to Help link below.
DTSTART;TZID=America/Chicago:20181116T190000
DTEND;TZID=America/Chicago:20181116T210000
LOCATION:Hamburger Mary's
SUMMARY:Charity HamBINGO!
END:VEVENT
END:VCALENDAR
