BEGIN:VCALENDAR
VERSION:2.0
PRODID:-//www.mokangreyhounds.org//NONSGML kigkonsult.se iCalcreator 2.30.1
 0//
CALSCALE:GREGORIAN
METHOD:PUBLISH
UID:ee6bee2d-c2c4-4b5f-bfd7-896efdfa5bab
X-WR-CALDESC:Join us at Four Paws and just try to resist the 'greyhound smo
 lder'.
X-WR-RELCALID:022b9de975a8916a85983c3a62a56cb7
X-WR-TIMEZONE:America/Chicago
BEGIN:VTIMEZONE
TZID:America/Chicago
BEGIN:STANDARD
TZNAME:CST
DTSTART:20181104T020000
TZOFFSETFROM:-0500
TZOFFSETTO:-0600
RDATE:20191103T020000
END:STANDARD
BEGIN:DAYLIGHT
TZNAME:CDT
DTSTART:20180311T020000
TZOFFSETFROM:-0600
TZOFFSETTO:-0500
RDATE:20190310T020000
RDATE:20200308T020000
END:DAYLIGHT
END:VTIMEZONE
BEGIN:VEVENT
UID:8dd90352-e55b-4edc-b188-e1d8be0260d3
DTSTAMP:20260423T094202Z
DESCRIPTION:Join us at Four Paws and just try to resist the 'greyhound smol
 der'.
DTSTART;TZID=America/Chicago:20181117T110000
DTEND;TZID=America/Chicago:20181117T150000
LOCATION:Four Paws Pantry & Spa\, 14040 W 119th St\, Olathe\, KS 66062
SUMMARY:Adoption Event - Four Paws Pantry
END:VEVENT
END:VCALENDAR
