BEGIN:VCALENDAR
VERSION:2.0
PRODID:-//www.mokangreyhounds.org//NONSGML kigkonsult.se iCalcreator 2.30.1
 0//
CALSCALE:GREGORIAN
METHOD:PUBLISH
UID:96a05793-94d2-44a9-9286-d7ff2fd912bb
X-WR-CALDESC:Cuddle with the greyhounds at Miles of Exotics!
X-WR-RELCALID:e560b0f0a2daad43ce7c0401f464eb2b
X-WR-TIMEZONE:America/Chicago
BEGIN:VTIMEZONE
TZID:America/Chicago
BEGIN:STANDARD
TZNAME:CST
DTSTART:20181104T020000
TZOFFSETFROM:-0500
TZOFFSETTO:-0600
RDATE:20191103T020000
END:STANDARD
BEGIN:DAYLIGHT
TZNAME:CDT
DTSTART:20180311T020000
TZOFFSETFROM:-0600
TZOFFSETTO:-0500
RDATE:20190310T020000
RDATE:20200308T020000
END:DAYLIGHT
END:VTIMEZONE
BEGIN:VEVENT
UID:03889ca3-a643-4d3e-ab90-9a8faed9b1a2
DTSTAMP:20260423T094104Z
DESCRIPTION:Cuddle with the greyhounds at Miles of Exotics!
DTSTART;TZID=America/Chicago:20181117T110000
DTEND;TZID=America/Chicago:20181117T150000
LOCATION:8350 N Broadway\, Kansas City\, MO 64118
SUMMARY:Miles of Exotics - Barry Road
END:VEVENT
END:VCALENDAR
