BEGIN:VCALENDAR
VERSION:2.0
PRODID:-//www.mokangreyhounds.org//NONSGML kigkonsult.se iCalcreator 2.30.1
 0//
CALSCALE:GREGORIAN
METHOD:PUBLISH
UID:ee7cad65-4f55-4a6b-b23f-6a0c2aaf641f
X-WR-CALDESC:Wrap yourself in some Greyhound love at Petco in Liberty!
X-WR-RELCALID:aeeae0034f0f343b85555bd8741dceeb
X-WR-TIMEZONE:America/Chicago
BEGIN:VTIMEZONE
TZID:America/Chicago
BEGIN:STANDARD
TZNAME:CST
DTSTART:20181104T020000
TZOFFSETFROM:-0500
TZOFFSETTO:-0600
RDATE:20191103T020000
END:STANDARD
BEGIN:DAYLIGHT
TZNAME:CDT
DTSTART:20180311T020000
TZOFFSETFROM:-0600
TZOFFSETTO:-0500
RDATE:20190310T020000
RDATE:20200308T020000
END:DAYLIGHT
END:VTIMEZONE
BEGIN:VEVENT
UID:5be0a293-0441-4de0-b28d-d91ab51b0e07
DTSTAMP:20260423T075632Z
DESCRIPTION:Wrap yourself in some Greyhound love at Petco in Liberty!
DTSTART;TZID=America/Chicago:20181208T110000
DTEND;TZID=America/Chicago:20181208T150000
LOCATION:233 S Stewart Rd\, Liberty\, MO 64068
SUMMARY:Petco - Liberty\, MO
END:VEVENT
END:VCALENDAR
