BEGIN:VCALENDAR
VERSION:2.0
PRODID:-//www.mokangreyhounds.org//NONSGML kigkonsult.se iCalcreator 2.30.1
 0//
CALSCALE:GREGORIAN
METHOD:PUBLISH
UID:3df50227-7555-4ab1-b1e5-c7c839901541
X-WR-CALDESC:Meet the 'reindogs' that really speed Santa's sleigh around th
 e world overnight!
X-WR-RELCALID:aafebaf92a0bc449c297bec47c7891b7
X-WR-TIMEZONE:America/Chicago
BEGIN:VTIMEZONE
TZID:America/Chicago
BEGIN:STANDARD
TZNAME:CST
DTSTART:20181104T020000
TZOFFSETFROM:-0500
TZOFFSETTO:-0600
RDATE:20191103T020000
END:STANDARD
BEGIN:DAYLIGHT
TZNAME:CDT
DTSTART:20180311T020000
TZOFFSETFROM:-0600
TZOFFSETTO:-0500
RDATE:20190310T020000
RDATE:20200308T020000
END:DAYLIGHT
END:VTIMEZONE
BEGIN:VEVENT
UID:60bfb891-842b-4642-9b38-4d2c34f071be
DTSTAMP:20260423T075133Z
DESCRIPTION:Meet the 'reindogs' that really speed Santa's sleigh around the
  world overnight!
DTSTART;TZID=America/Chicago:20181208T110000
DTEND;TZID=America/Chicago:20181208T150000
LOCATION:Three Dog Bakery\, 7951 W. 160th Street\, Suite 520 Overland Park\
 , Kansas 66223
SUMMARY:Three Dog Bakery - Overland Park
END:VEVENT
END:VCALENDAR
