BEGIN:VCALENDAR
VERSION:2.0
PRODID:-//www.mokangreyhounds.org//NONSGML kigkonsult.se iCalcreator 2.30.1
 0//
CALSCALE:GREGORIAN
METHOD:PUBLISH
UID:002fc646-55c7-4c44-8b0a-49d1a98f02b3
X-WR-CALDESC:Warm up with a pup at Three Dog Bakery in Leawood!
X-WR-RELCALID:5ae1fe61ce3ef92d1cc76c121dab8f49
X-WR-TIMEZONE:America/Chicago
BEGIN:VTIMEZONE
TZID:America/Chicago
BEGIN:STANDARD
TZNAME:CST
DTSTART:20181104T020000
TZOFFSETFROM:-0500
TZOFFSETTO:-0600
RDATE:20191103T020000
END:STANDARD
BEGIN:DAYLIGHT
TZNAME:CDT
DTSTART:20180311T020000
TZOFFSETFROM:-0600
TZOFFSETTO:-0500
RDATE:20190310T020000
RDATE:20200308T020000
END:DAYLIGHT
END:VTIMEZONE
BEGIN:VEVENT
UID:a2828b11-7d4e-467e-83c3-5dd26fccde40
DTSTAMP:20260423T061316Z
DESCRIPTION:Warm up with a pup at Three Dog Bakery in Leawood!
DTSTART;TZID=America/Chicago:20190112T110000
DTEND;TZID=America/Chicago:20190112T150000
LOCATION:Three Dog Bakery\, 4322 W 119th St\, Leawood\, KS 66209
SUMMARY:Adoption Event - Three Dog Bakery - Leawood
END:VEVENT
END:VCALENDAR
