BEGIN:VCALENDAR
VERSION:2.0
PRODID:-//www.mokangreyhounds.org//NONSGML kigkonsult.se iCalcreator 2.30.1
 0//
CALSCALE:GREGORIAN
METHOD:PUBLISH
UID:f424527f-e62d-4108-be3c-a3c88a1fe110
X-WR-CALDESC:Snuggle up with a greyt breed at Half Price Books' Grand Openi
 ng in Wichita!
X-WR-RELCALID:f84b83def2948fc6cd92e80eb443046b
X-WR-TIMEZONE:America/Chicago
BEGIN:VTIMEZONE
TZID:America/Chicago
BEGIN:STANDARD
TZNAME:CST
DTSTART:20181104T020000
TZOFFSETFROM:-0500
TZOFFSETTO:-0600
RDATE:20191103T020000
END:STANDARD
BEGIN:DAYLIGHT
TZNAME:CDT
DTSTART:20180311T020000
TZOFFSETFROM:-0600
TZOFFSETTO:-0500
RDATE:20190310T020000
RDATE:20200308T020000
END:DAYLIGHT
END:VTIMEZONE
BEGIN:VEVENT
UID:9083af82-808d-4bd5-b67c-5dcbc61880de
DTSTAMP:20260423T060613Z
DESCRIPTION:Snuggle up with a greyt breed at Half Price Books' Grand Openin
 g in Wichita!
DTSTART;TZID=America/Chicago:20190112T110000
DTEND;TZID=America/Chicago:20190112T150000
LOCATION:Half Price Books\, 8145 E Kellogg Dr\, Wichita\, KS 67207
SUMMARY:Half Price Books - Wichita
END:VEVENT
END:VCALENDAR
