BEGIN:VCALENDAR
VERSION:2.0
PRODID:-//www.mokangreyhounds.org//NONSGML kigkonsult.se iCalcreator 2.30.1
 0//
CALSCALE:GREGORIAN
METHOD:PUBLISH
UID:353e7726-8647-4157-b04f-24685ad7bf03
X-WR-CALDESC:Let a greyhound help you recover from the holidays!
X-WR-RELCALID:037e31a12d44b71c60739e985eff2853
X-WR-TIMEZONE:America/Chicago
BEGIN:VTIMEZONE
TZID:America/Chicago
BEGIN:STANDARD
TZNAME:CST
DTSTART:20181104T020000
TZOFFSETFROM:-0500
TZOFFSETTO:-0600
RDATE:20191103T020000
END:STANDARD
BEGIN:DAYLIGHT
TZNAME:CDT
DTSTART:20180311T020000
TZOFFSETFROM:-0600
TZOFFSETTO:-0500
RDATE:20190310T020000
RDATE:20200308T020000
END:DAYLIGHT
END:VTIMEZONE
BEGIN:VEVENT
UID:85c0f270-6fb6-41d9-b1e3-352705623fb9
DTSTAMP:20260423T061730Z
DESCRIPTION:Let a greyhound help you recover from the holidays!
DTSTART;TZID=America/Chicago:20190112T110000
DTEND;TZID=America/Chicago:20190112T150000
LOCATION:8350 N Broadway\, Kansas City\, MO 64118
SUMMARY:Miles of Exotics - Barry Road
END:VEVENT
END:VCALENDAR
