BEGIN:VCALENDAR
VERSION:2.0
PRODID:-//www.mokangreyhounds.org//NONSGML kigkonsult.se iCalcreator 2.30.1
 0//
CALSCALE:GREGORIAN
METHOD:PUBLISH
UID:8eba942b-363a-4877-b760-ea10bf3e9a69
X-WR-CALDESC:Join us for a hilarious and charitable night of HamBingo!  Eat
 \, drink\, laugh and help the Greyhounds.  Don't forget to make reservatio
 ns!  \n\nSign up to help as a volunteer using the When to Help link below.
X-WR-RELCALID:8a82bc929fff8e77e7a8705edf0aa231
X-WR-TIMEZONE:America/Chicago
BEGIN:VTIMEZONE
TZID:America/Chicago
BEGIN:STANDARD
TZNAME:CST
DTSTART:20181104T020000
TZOFFSETFROM:-0500
TZOFFSETTO:-0600
RDATE:20191103T020000
END:STANDARD
BEGIN:DAYLIGHT
TZNAME:CDT
DTSTART:20180311T020000
TZOFFSETFROM:-0600
TZOFFSETTO:-0500
RDATE:20190310T020000
RDATE:20200308T020000
END:DAYLIGHT
END:VTIMEZONE
BEGIN:VEVENT
UID:cca9757e-3db4-4cfe-8940-a8f5e384d1af
DTSTAMP:20260423T060530Z
DESCRIPTION:Join us for a hilarious and charitable night of HamBingo!  Eat\
 , drink\, laugh and help the Greyhounds.  Don't forget to make reservation
 s!  \n\nSign up to help as a volunteer using the When to Help link below.
DTSTART;TZID=America/Chicago:20190118T190000
DTEND;TZID=America/Chicago:20190118T210000
LOCATION:Hamburger Mary's
SUMMARY:Charity HamBINGO!
END:VEVENT
END:VCALENDAR
