BEGIN:VCALENDAR
VERSION:2.0
PRODID:-//www.mokangreyhounds.org//NONSGML kigkonsult.se iCalcreator 2.30.1
 0//
CALSCALE:GREGORIAN
METHOD:PUBLISH
UID:e9c45e9a-f77b-40d4-82b5-036b6e4178cb
X-WR-CALDESC:Bundle up and head out to meet the greytest dogs on earth at P
 etco in Liberty!
X-WR-RELCALID:c8fd7e9f9a015c52cae3c4695dcc27f5
X-WR-TIMEZONE:America/Chicago
BEGIN:VTIMEZONE
TZID:America/Chicago
BEGIN:STANDARD
TZNAME:CST
DTSTART:20181104T020000
TZOFFSETFROM:-0500
TZOFFSETTO:-0600
RDATE:20191103T020000
END:STANDARD
BEGIN:DAYLIGHT
TZNAME:CDT
DTSTART:20180311T020000
TZOFFSETFROM:-0600
TZOFFSETTO:-0500
RDATE:20190310T020000
RDATE:20200308T020000
END:DAYLIGHT
END:VTIMEZONE
BEGIN:VEVENT
UID:a6d592b1-0bc9-4dce-b47f-4f3fe99cafce
DTSTAMP:20260423T061213Z
DESCRIPTION:Bundle up and head out to meet the greytest dogs on earth at Pe
 tco in Liberty!
DTSTART;TZID=America/Chicago:20190126T110000
DTEND;TZID=America/Chicago:20190126T150000
LOCATION:233 S Stewart Rd\, Liberty\, MO 64068
SUMMARY:Petco - Liberty\, MO
END:VEVENT
END:VCALENDAR
