BEGIN:VCALENDAR
VERSION:2.0
PRODID:-//www.mokangreyhounds.org//NONSGML kigkonsult.se iCalcreator 2.30.1
 0//
CALSCALE:GREGORIAN
METHOD:PUBLISH
UID:ba3f224d-a244-413c-a99c-01dcb89a2222
X-WR-CALDESC:A greyt day to get out and meet us at Petco on Stateline!
X-WR-RELCALID:638488c0fca7b9395178ad5259437cf1
X-WR-TIMEZONE:America/Chicago
BEGIN:VTIMEZONE
TZID:America/Chicago
BEGIN:STANDARD
TZNAME:CST
DTSTART:20181104T020000
TZOFFSETFROM:-0500
TZOFFSETTO:-0600
RDATE:20191103T020000
END:STANDARD
BEGIN:DAYLIGHT
TZNAME:CDT
DTSTART:20180311T020000
TZOFFSETFROM:-0600
TZOFFSETTO:-0500
RDATE:20190310T020000
RDATE:20200308T020000
END:DAYLIGHT
END:VTIMEZONE
BEGIN:VEVENT
UID:1fd3007e-8721-467a-ab92-f49101800640
DTSTAMP:20260423T060530Z
DESCRIPTION:A greyt day to get out and meet us at Petco on Stateline!
DTSTART;TZID=America/Chicago:20190126T110000
DTEND;TZID=America/Chicago:20190126T150000
LOCATION:1210 W 136th St\, Kansas City\, MO 64145
SUMMARY:Petco - Stateline
END:VEVENT
END:VCALENDAR
