BEGIN:VCALENDAR
VERSION:2.0
PRODID:-//www.mokangreyhounds.org//NONSGML kigkonsult.se iCalcreator 2.30.1
 0//
CALSCALE:GREGORIAN
METHOD:PUBLISH
UID:1de35284-6071-4d03-af0e-d61ca4697262
X-WR-CALDESC:Feel the love at Pet Supplies Plus in Ranch Mart!
X-WR-RELCALID:c96b7bc77eb7bde14ac9a477dada5941
X-WR-TIMEZONE:America/Chicago
BEGIN:VTIMEZONE
TZID:America/Chicago
BEGIN:STANDARD
TZNAME:CST
DTSTART:20181104T020000
TZOFFSETFROM:-0500
TZOFFSETTO:-0600
RDATE:20191103T020000
END:STANDARD
BEGIN:DAYLIGHT
TZNAME:CDT
DTSTART:20180311T020000
TZOFFSETFROM:-0600
TZOFFSETTO:-0500
RDATE:20190310T020000
RDATE:20200308T020000
END:DAYLIGHT
END:VTIMEZONE
BEGIN:VEVENT
UID:c701dffa-dbd3-4b89-b55d-4b960cc1093b
DTSTAMP:20260423T040914Z
DESCRIPTION:Feel the love at Pet Supplies Plus in Ranch Mart!
DTSTART;TZID=America/Chicago:20190209T110000
DTEND;TZID=America/Chicago:20190209T150000
LOCATION:Pet Supplies Plus - 3703 W 95th St\, Overland Park\, KS 66206
SUMMARY:Adoption Event - Pet Supplies Plus - Ranch Mart
END:VEVENT
END:VCALENDAR
