BEGIN:VCALENDAR
VERSION:2.0
PRODID:-//www.mokangreyhounds.org//NONSGML kigkonsult.se iCalcreator 2.30.1
 0//
CALSCALE:GREGORIAN
METHOD:PUBLISH
UID:94b7a4ef-6e9a-4fce-8f33-9d3d5797b96c
X-WR-CALDESC:Find your Valentine at Petco\, Wichita (west)!
X-WR-RELCALID:659e04c59d0123ef6c9cc82a0235257f
X-WR-TIMEZONE:America/Chicago
BEGIN:VTIMEZONE
TZID:America/Chicago
BEGIN:STANDARD
TZNAME:CST
DTSTART:20181104T020000
TZOFFSETFROM:-0500
TZOFFSETTO:-0600
RDATE:20191103T020000
END:STANDARD
BEGIN:DAYLIGHT
TZNAME:CDT
DTSTART:20180311T020000
TZOFFSETFROM:-0600
TZOFFSETTO:-0500
RDATE:20190310T020000
RDATE:20200308T020000
END:DAYLIGHT
END:VTIMEZONE
BEGIN:VEVENT
UID:59ef1036-0df4-4114-b32c-61719ae79e6c
DTSTAMP:20260423T040954Z
DESCRIPTION:Find your Valentine at Petco\, Wichita (west)!
DTSTART;TZID=America/Chicago:20190216T110000
DTEND;TZID=America/Chicago:20190216T150000
LOCATION:2441 N Maize Rd\, Wichita\, KS 67205
SUMMARY:Petco - Wichita (West)
END:VEVENT
END:VCALENDAR
