BEGIN:VCALENDAR
VERSION:2.0
PRODID:-//www.mokangreyhounds.org//NONSGML kigkonsult.se iCalcreator 2.30.1
 0//
CALSCALE:GREGORIAN
METHOD:PUBLISH
UID:1b235509-df54-4e90-80a0-f4eea59380af
X-WR-CALDESC:All dressed up and somewhere to go at Four Paws Pantry in Olat
 he!
X-WR-RELCALID:0e9f96e88e7b2c0f8e7f2f5fe090d058
X-WR-TIMEZONE:America/Chicago
BEGIN:VTIMEZONE
TZID:America/Chicago
BEGIN:STANDARD
TZNAME:CST
DTSTART:20181104T020000
TZOFFSETFROM:-0500
TZOFFSETTO:-0600
RDATE:20191103T020000
END:STANDARD
BEGIN:DAYLIGHT
TZNAME:CDT
DTSTART:20180311T020000
TZOFFSETFROM:-0600
TZOFFSETTO:-0500
RDATE:20190310T020000
RDATE:20200308T020000
END:DAYLIGHT
END:VTIMEZONE
BEGIN:VEVENT
UID:083f2b41-5fea-460b-af43-91abb732b881
DTSTAMP:20260423T040535Z
DESCRIPTION:All dressed up and somewhere to go at Four Paws Pantry in Olath
 e!
DTSTART;TZID=America/Chicago:20190223T110000
DTEND;TZID=America/Chicago:20190223T150000
LOCATION:Four Paws Pantry & Spa\, 14040 W 119th St\, Olathe\, KS 66062
SUMMARY:Adoption Event - Four Paws Pantry
END:VEVENT
END:VCALENDAR
