BEGIN:VCALENDAR
VERSION:2.0
PRODID:-//www.mokangreyhounds.org//NONSGML kigkonsult.se iCalcreator 2.30.1
 0//
CALSCALE:GREGORIAN
METHOD:PUBLISH
UID:e2fa2b37-0565-449f-ac6a-5a677b36e87a
X-WR-CALDESC:The Kansas City Mavericks' Annual Racing Day will feature raci
 ng star\, Tony Stewart\, and our retired racing greyhounds.\n\nTickets to 
 the game can be purchased at https://fevo.me/mokangreyhound  $5 of every t
 icket sold through this link goes to help the Greyhounds.\n\nPhoto Credit:
  Tony Stewart Foundation
X-WR-RELCALID:3867038b65f5df7da6af77995dc73ec4
X-WR-TIMEZONE:America/Chicago
BEGIN:VTIMEZONE
TZID:America/Chicago
BEGIN:STANDARD
TZNAME:CST
DTSTART:20181104T020000
TZOFFSETFROM:-0500
TZOFFSETTO:-0600
RDATE:20191103T020000
END:STANDARD
BEGIN:DAYLIGHT
TZNAME:CDT
DTSTART:20180311T020000
TZOFFSETFROM:-0600
TZOFFSETTO:-0500
RDATE:20190310T020000
RDATE:20200308T020000
END:DAYLIGHT
END:VTIMEZONE
BEGIN:VEVENT
UID:83752a8d-1668-4c7c-a26e-c9768f19e569
DTSTAMP:20260423T022142Z
DESCRIPTION:The Kansas City Mavericks' Annual Racing Day will feature racin
 g star\, Tony Stewart\, and our retired racing greyhounds.\n\nTickets to t
 he game can be purchased at https://fevo.me/mokangreyhound  $5 of every ti
 cket sold through this link goes to help the Greyhounds.\n\nPhoto Credit: 
 Tony Stewart Foundation
DTSTART;TZID=America/Chicago:20190310T160000
DTEND;TZID=America/Chicago:20190310T183000
LOCATION:Silverstein Eye Centers Arena
SUMMARY:Race Day at the KC Mavericks
END:VEVENT
END:VCALENDAR
