BEGIN:VCALENDAR
VERSION:2.0
PRODID:-//www.mokangreyhounds.org//NONSGML kigkonsult.se iCalcreator 2.30.1
 0//
CALSCALE:GREGORIAN
METHOD:PUBLISH
UID:8f964d44-b7bb-4b83-9835-c6b3cc2dba77
X-WR-CALDESC:Come for your home remodeling and gardening needs but\, stop t
 o love on the Greyhounds while you are there!
X-WR-RELCALID:02297c85ad284d3a3459801fd8a6253f
X-WR-TIMEZONE:America/Chicago
BEGIN:VTIMEZONE
TZID:America/Chicago
BEGIN:STANDARD
TZNAME:CST
DTSTART:20181104T020000
TZOFFSETFROM:-0500
TZOFFSETTO:-0600
RDATE:20191103T020000
END:STANDARD
BEGIN:DAYLIGHT
TZNAME:CDT
DTSTART:20190310T020000
TZOFFSETFROM:-0600
TZOFFSETTO:-0500
RDATE:20200308T020000
END:DAYLIGHT
END:VTIMEZONE
BEGIN:VEVENT
UID:bb6ced33-25a1-473a-adfa-2851ba1aabe2
DTSTAMP:20260423T022041Z
DESCRIPTION:Come for your home remodeling and gardening needs but\, stop to
  love on the Greyhounds while you are there!
DTSTART;TZID=America/Chicago:20190322T120000
DTEND;TZID=America/Chicago:20190322T210000
LOCATION:Kansas City Convention Center
SUMMARY:Greater Kansas City Home Show
END:VEVENT
END:VCALENDAR
