BEGIN:VCALENDAR
VERSION:2.0
PRODID:-//www.mokangreyhounds.org//NONSGML kigkonsult.se iCalcreator 2.30.1
 0//
CALSCALE:GREGORIAN
METHOD:PUBLISH
UID:a9f3d868-e8c7-4daa-8028-75bbcb44ea7f
X-WR-CALDESC:Come for your home remodeling and garden needs but\, stop by a
 nd love on the Greyhounds while you're there!
X-WR-RELCALID:907253a4cd2c17f612f00a78372bfab6
X-WR-TIMEZONE:America/Chicago
BEGIN:VTIMEZONE
TZID:America/Chicago
BEGIN:STANDARD
TZNAME:CST
DTSTART:20181104T020000
TZOFFSETFROM:-0500
TZOFFSETTO:-0600
RDATE:20191103T020000
END:STANDARD
BEGIN:DAYLIGHT
TZNAME:CDT
DTSTART:20190310T020000
TZOFFSETFROM:-0600
TZOFFSETTO:-0500
RDATE:20200308T020000
END:DAYLIGHT
END:VTIMEZONE
BEGIN:VEVENT
UID:e7dde920-c261-4670-b68b-d07d00588ce5
DTSTAMP:20260423T022644Z
DESCRIPTION:Come for your home remodeling and garden needs but\, stop by an
 d love on the Greyhounds while you're there!
DTSTART;TZID=America/Chicago:20190323T100000
DTEND;TZID=America/Chicago:20190323T190000
LOCATION:Kansas City Convention Center
SUMMARY:Greater Kansas City Home Show
END:VEVENT
END:VCALENDAR
