BEGIN:VCALENDAR
VERSION:2.0
PRODID:-//www.mokangreyhounds.org//NONSGML kigkonsult.se iCalcreator 2.30.1
 0//
CALSCALE:GREGORIAN
METHOD:PUBLISH
UID:b4b97d44-659b-44d8-94fd-f639998ddcef
X-WR-CALDESC:Come for your home remodeling and garden needs but\, come by o
 ur booth to love on the Greyhounds!
X-WR-RELCALID:80111b3e2a27c55163b311a4befa4126
X-WR-TIMEZONE:America/Chicago
BEGIN:VTIMEZONE
TZID:America/Chicago
BEGIN:STANDARD
TZNAME:CST
DTSTART:20181104T020000
TZOFFSETFROM:-0500
TZOFFSETTO:-0600
RDATE:20191103T020000
END:STANDARD
BEGIN:DAYLIGHT
TZNAME:CDT
DTSTART:20190310T020000
TZOFFSETFROM:-0600
TZOFFSETTO:-0500
RDATE:20200308T020000
END:DAYLIGHT
END:VTIMEZONE
BEGIN:VEVENT
UID:4ee9b863-423c-4d00-9b1e-fddaf3987a2c
DTSTAMP:20260423T023108Z
DESCRIPTION:Come for your home remodeling and garden needs but\, come by ou
 r booth to love on the Greyhounds!
DTSTART;TZID=America/Chicago:20190324T100000
DTEND;TZID=America/Chicago:20190324T170000
LOCATION:Kansas City Convention Center
SUMMARY:Greater Kansas City Home Show
END:VEVENT
END:VCALENDAR
