BEGIN:VCALENDAR
VERSION:2.0
PRODID:-//www.mokangreyhounds.org//NONSGML kigkonsult.se iCalcreator 2.30.1
 0//
CALSCALE:GREGORIAN
METHOD:PUBLISH
UID:feb8f711-816c-45a3-8eaa-5d5cb3efbb95
X-WR-CALDESC:It's spring and man's thoughts turn to thoughts of puppy love!
X-WR-RELCALID:8b796e73334b35a551af8f5f5b1ae7bd
X-WR-TIMEZONE:America/Chicago
BEGIN:VTIMEZONE
TZID:America/Chicago
BEGIN:STANDARD
TZNAME:CST
DTSTART:20181104T020000
TZOFFSETFROM:-0500
TZOFFSETTO:-0600
RDATE:20191103T020000
END:STANDARD
BEGIN:DAYLIGHT
TZNAME:CDT
DTSTART:20190310T020000
TZOFFSETFROM:-0600
TZOFFSETTO:-0500
RDATE:20200308T020000
END:DAYLIGHT
END:VTIMEZONE
BEGIN:VEVENT
UID:c99e80ce-04db-442c-9114-7d9d6536a103
DTSTAMP:20260423T002527Z
DESCRIPTION:It's spring and man's thoughts turn to thoughts of puppy love!
DTSTART;TZID=America/Chicago:20190413T110000
DTEND;TZID=America/Chicago:20190413T150000
LOCATION:8752 NE 82nd Ter\, Kansas City\, MO 64158
SUMMARY:Bentley's Pet Stuff - Liberty
END:VEVENT
END:VCALENDAR
